BEGIN:VCALENDAR
VERSION:2.0
PRODID:-//Bitcoin Plett - ECPv6.15.20//NONSGML v1.0//EN
CALSCALE:GREGORIAN
METHOD:PUBLISH
X-WR-CALNAME:Bitcoin Plett
X-ORIGINAL-URL:https://bitcoinplett.cx
X-WR-CALDESC:Events for Bitcoin Plett
REFRESH-INTERVAL;VALUE=DURATION:PT1H
X-Robots-Tag:noindex
X-PUBLISHED-TTL:PT1H
BEGIN:VTIMEZONE
TZID:UTC
BEGIN:STANDARD
TZOFFSETFROM:+0000
TZOFFSETTO:+0000
TZNAME:UTC
DTSTART:20250101T000000
END:STANDARD
END:VTIMEZONE
BEGIN:VTIMEZONE
TZID:Africa/Harare
BEGIN:STANDARD
TZOFFSETFROM:+0200
TZOFFSETTO:+0200
TZNAME:CAT
DTSTART:20250101T000000
END:STANDARD
END:VTIMEZONE
BEGIN:VEVENT
DTSTART;TZID=UTC:20260303T133000
DTEND;TZID=UTC:20260303T150000
DTSTAMP:20260420T081743
CREATED:20260302T110221Z
LAST-MODIFIED:20260302T110224Z
UID:2785-1772544600-1772550000@bitcoinplett.cx
SUMMARY:Bitcoin Meetup at La Cafetería
DESCRIPTION:Come hang out with us at the Bitcoin Plett Meetup! Learn about Bitcoin\, wallets\, and self-custody\, share ideas\, and see how Bitcoin is transforming Plettenberg Bay. \n\n\n\nEveryone’s welcome — whether you’re a total beginner or a seasoned Bitcoiner.
URL:https://bitcoinplett.cx/event/bitcoin-meetup-at-la-cafeteria-2/
LOCATION:La Cafetería\, 14 Hopwood Street\, Main Beach\, Plettenberg Bay\, 6600
CATEGORIES:Meetup
ATTACH;FMTTYPE=image/jpeg:https://bitcoinplett.cx/wp-content/uploads/2025/11/510964416_10163218617119328_3893224074804323109_n.jpg
END:VEVENT
BEGIN:VEVENT
DTSTART;TZID=Africa/Harare:20260311T173000
DTEND;TZID=Africa/Harare:20260311T190000
DTSTAMP:20260420T081743
CREATED:20260303T092732Z
LAST-MODIFIED:20260303T092735Z
UID:2788-1773250200-1773255600@bitcoinplett.cx
SUMMARY:Bitcoin Meetup at Kasi Lifestyle Tshisanyama
DESCRIPTION:Join us at Kasi Lyfstyle for a relaxed Bitcoin meetup. \n\n\n\nWe’re learning together — whether you’re brand new or a bit curious\, you’re welcome. We’ll help you set up your own wallet and understand how to take control of your money\, step by step. \n\n\n\nJust locals supporting each other and figuring things out as we go. No pressure\, no jargon — just real conversations and shared growth. \n\n\n\nCome ask questions\, and connect with others in the Plett & KwaNokuthula Bitcoin community. \n\n\n\nEveryone’s welcome.
URL:https://bitcoinplett.cx/event/bitcoin-meetup-at-kasi-lifestyle-tshisanyama/
LOCATION:Kasi Lifestyle Tshisanyama\, 918 Mbeki Ave\,\, Kwanokuthula\, 6600\, South Africa
CATEGORIES:Meetup
ATTACH;FMTTYPE=image/png:https://bitcoinplett.cx/wp-content/uploads/2025/10/Screenshot-from-2025-11-04-17-01-06.png
END:VEVENT
BEGIN:VEVENT
DTSTART;TZID=UTC:20260331T133000
DTEND;TZID=UTC:20260331T150000
DTSTAMP:20260420T081743
CREATED:20250331T113051Z
LAST-MODIFIED:20260330T084923Z
UID:2655-1774963800-1774969200@bitcoinplett.cx
SUMMARY:Bitcoin Meetup at Market Off Main
DESCRIPTION:Learn about how you can accept Bitcoin for your Business. Earning in Bitcoin is the easiest way to get bitcoin.  \n\n\n\nEveryone’s welcome.
URL:https://bitcoinplett.cx/event/bitcoin-meetup-at-market-off-main/
LOCATION:Market off Main\, 7 Sewell Street\, Plettenberg Bay\, Western Cape\, 6600\, South Africa
CATEGORIES:Meetup
ATTACH;FMTTYPE=image/jpeg:https://bitcoinplett.cx/wp-content/uploads/2025/12/marketterrace-002.jpg
END:VEVENT
BEGIN:VEVENT
DTSTART;TZID=Africa/Harare:20260408T173000
DTEND;TZID=Africa/Harare:20260408T190000
DTSTAMP:20260420T081743
CREATED:20260212T134816Z
LAST-MODIFIED:20260407T120013Z
UID:2756-1775669400-1775674800@bitcoinplett.cx
SUMMARY:Bitcoin Meetup @ Surf Cafe
DESCRIPTION:Let’s get together and chat about Bitcoin! Learn how to earn it\, save it\, and keep it secure.  \n\n\n\nEveryone’s welcome.
URL:https://bitcoinplett.cx/event/bitcoin-meetup-at-surf-cafe-7/
LOCATION:Surf Cafe\, 10 Beacon Isle Centre\, c/o Pharos Ave &\, Beacon Isle Drive\, Plettenberg Bay\, 6600\, South Africa
CATEGORIES:Meetup
ATTACH;FMTTYPE=image/jpeg:https://bitcoinplett.cx/wp-content/uploads/2025/10/surf-cafe.jpg
ORGANIZER;CN="Bitcoin Plett":MAILTO:satoshi@bitcoinplett.cx
END:VEVENT
BEGIN:VEVENT
DTSTART;TZID=UTC:20260414T133000
DTEND;TZID=UTC:20260414T150000
DTSTAMP:20260420T081743
CREATED:20260413T122726Z
LAST-MODIFIED:20260413T122727Z
UID:2863-1776173400-1776178800@bitcoinplett.cx
SUMMARY:Bitcoin Meetup @ Eleven
DESCRIPTION:A relaxed\, friendly get-together for freedom-thinkers who want to understand Bitcoin beyond the headlines. \n\n\n\n\n Learn how Bitcoin is already being used locally\n\n\n\nLearn how can you support a growing circular economy\n\n\n\n\nWhether you’re brand new\, quietly curious\, or already stacking sats; everyone is welcome!
URL:https://bitcoinplett.cx/event/bitcoin-meetup-eleven/
LOCATION:Eleven\, 11 Main Street\, Plettenberg Bay\, Western Cape\, 6600\, South Africa
CATEGORIES:Meetup
ATTACH;FMTTYPE=image/jpeg:https://bitcoinplett.cx/wp-content/uploads/2025/10/11-Plett.jpg
END:VEVENT
BEGIN:VEVENT
DTSTART;TZID=Africa/Harare:20260422T173000
DTEND;TZID=Africa/Harare:20260422T190000
DTSTAMP:20260420T081743
CREATED:20260413T124951Z
LAST-MODIFIED:20260413T124952Z
UID:2875-1776879000-1776884400@bitcoinplett.cx
SUMMARY:Bitcoin Meetup @ Surf Cafe
DESCRIPTION:Let’s get together and chat about Bitcoin! Learn how to earn it\, save it\, and keep it secure.  \n\n\n\nEveryone’s welcome.
URL:https://bitcoinplett.cx/event/bitcoin-meetup-surf-cafe/
LOCATION:Surf Cafe\, 10 Beacon Isle Centre\, c/o Pharos Ave &\, Beacon Isle Drive\, Plettenberg Bay\, 6600\, South Africa
CATEGORIES:Meetup
ATTACH;FMTTYPE=image/jpeg:https://bitcoinplett.cx/wp-content/uploads/2025/10/surf-cafe.jpg
ORGANIZER;CN="Bitcoin Plett":MAILTO:satoshi@bitcoinplett.cx
END:VEVENT
BEGIN:VEVENT
DTSTART;TZID=UTC:20260428T133000
DTEND;TZID=UTC:20260428T150000
DTSTAMP:20260420T081743
CREATED:20260204T094914Z
LAST-MODIFIED:20260413T124730Z
UID:2714-1777383000-1777388400@bitcoinplett.cx
SUMMARY:Bitcoin Meetup @ The Seakrit Spot
DESCRIPTION:We meet up. We talk about Bitcoin.  \n\n\n\nEveryone’s welcome!
URL:https://bitcoinplett.cx/event/bitcoin-meetup-at-eleven-2/
LOCATION:The Seakrit Spot\, 6 Anchor Crescent\, Plettenberg Bay\, Western Cape\, 6600\, South Africa
CATEGORIES:Meetup
ATTACH;FMTTYPE=image/png:https://bitcoinplett.cx/wp-content/uploads/2026/02/Screenshot-from-2026-04-13-14-46-07.png
END:VEVENT
END:VCALENDAR