BEGIN:VCALENDAR
VERSION:2.0
PRODID:-//Bitcoin Plett - ECPv6.15.20//NONSGML v1.0//EN
CALSCALE:GREGORIAN
METHOD:PUBLISH
X-WR-CALNAME:Bitcoin Plett
X-ORIGINAL-URL:https://bitcoinplett.cx
X-WR-CALDESC:Events for Bitcoin Plett
REFRESH-INTERVAL;VALUE=DURATION:PT1H
X-Robots-Tag:noindex
X-PUBLISHED-TTL:PT1H
BEGIN:VTIMEZONE
TZID:Africa/Harare
BEGIN:STANDARD
TZOFFSETFROM:+0200
TZOFFSETTO:+0200
TZNAME:CAT
DTSTART:20240101T000000
END:STANDARD
END:VTIMEZONE
BEGIN:VEVENT
DTSTART;TZID=Africa/Harare:20251029T173000
DTEND;TZID=Africa/Harare:20251029T190000
DTSTAMP:20260420T021150
CREATED:20251013T123821Z
LAST-MODIFIED:20251029T123841Z
UID:2470-1761759000-1761764400@bitcoinplett.cx
SUMMARY:Bitcoin Meetup at Surf Cafe
DESCRIPTION:Join us at Surf Café for a relaxed Bitcoin meetup. \n\n\n\nWe keep it casual — come hang out\, ask questions\, and meet others in the Plett Bitcoin community. Locals helping locals to learn\, understand\, and explore self-custody\, wallets\, and safe buying — and discover how Bitcoin can help boost Plett’s local economy. \n\n\n\nEveryone’s welcome.
URL:https://bitcoinplett.cx/event/bitcoin-meetup-at-surf-cafe/
LOCATION:Surf Cafe\, 10 Beacon Isle Centre\, c/o Pharos Ave &\, Beacon Isle Drive\, Plettenberg Bay\, 6600\, South Africa
CATEGORIES:Meetup
ATTACH;FMTTYPE=image/jpeg:https://bitcoinplett.cx/wp-content/uploads/2025/10/surf-cafe.jpg
END:VEVENT
END:VCALENDAR