BEGIN:VCALENDAR
VERSION:2.0
PRODID:-//Bitcoin Plett - ECPv6.15.20//NONSGML v1.0//EN
CALSCALE:GREGORIAN
METHOD:PUBLISH
X-WR-CALNAME:Bitcoin Plett
X-ORIGINAL-URL:https://bitcoinplett.cx
X-WR-CALDESC:Events for Bitcoin Plett
REFRESH-INTERVAL;VALUE=DURATION:PT1H
X-Robots-Tag:noindex
X-PUBLISHED-TTL:PT1H
BEGIN:VTIMEZONE
TZID:Africa/Harare
BEGIN:STANDARD
TZOFFSETFROM:+0200
TZOFFSETTO:+0200
TZNAME:CAT
DTSTART:20240101T000000
END:STANDARD
END:VTIMEZONE
BEGIN:VEVENT
DTSTART;TZID=Africa/Harare:20251015T173000
DTEND;TZID=Africa/Harare:20251015T190000
DTSTAMP:20260420T033723
CREATED:20251010T100108Z
LAST-MODIFIED:20251010T125408Z
UID:2410-1760549400-1760554800@bitcoinplett.cx
SUMMARY:Bitcoin Meetup at Surf Cafe
DESCRIPTION:Curious about Bitcoin? Already using it? Or just want to meet like-minded people building a stronger\, freer local economy? Come hang out with us at the Bitcoin Plett Meetup!
URL:https://bitcoinplett.cx/event/bitcoin-meetup/
LOCATION:Surf Cafe\, 10 Beacon Isle Centre\, c/o Pharos Ave &\, Beacon Isle Drive\, Plettenberg Bay\, 6600\, South Africa
CATEGORIES:Meetup
ATTACH;FMTTYPE=image/jpeg:https://bitcoinplett.cx/wp-content/uploads/2025/10/surf-cafe.jpg
END:VEVENT
END:VCALENDAR