BEGIN:VCALENDAR
VERSION:2.0
PRODID:-//Bitcoin Plett - ECPv6.15.20//NONSGML v1.0//EN
CALSCALE:GREGORIAN
METHOD:PUBLISH
X-ORIGINAL-URL:https://bitcoinplett.cx
X-WR-CALDESC:Events for Bitcoin Plett
REFRESH-INTERVAL;VALUE=DURATION:PT1H
X-Robots-Tag:noindex
X-PUBLISHED-TTL:PT1H
BEGIN:VTIMEZONE
TZID:Africa/Harare
BEGIN:STANDARD
TZOFFSETFROM:+0200
TZOFFSETTO:+0200
TZNAME:CAT
DTSTART:20250101T000000
END:STANDARD
END:VTIMEZONE
BEGIN:VEVENT
DTSTART;TZID=Africa/Harare:20260223T173000
DTEND;TZID=Africa/Harare:20260223T200000
DTSTAMP:20260420T132211
CREATED:20260202T084425Z
LAST-MODIFIED:20260213T110128Z
UID:2674-1771867800-1771876800@bitcoinplett.cx
SUMMARY:Bitcoin Education Evening @ Surf Cafe
DESCRIPTION:Did you miss last year’s Bitcoin Information & Basics session?No stress — Bitcoin is patient. \n\n\n\nWe’re doing it again\, with updates\, real-world examples\, and plenty of time for questions. \n\n\n\nWhat’s on the menu (besides snacks): \n\n\n\n• Bitcoin Basics Presentation – What money is and how Bitcoin works\, explained simply.• Live Demo – Buying fractions of Bitcoin (sats) in an easy\, safe and affordable way• Real-World Use Demo & Talk – Price-agnostic Bitcoiners• Bitcoin in Plett Presentation – One-year community adoption review \n\n\n\nLearn how to install your Bitcoin Wallet and we will give you your first sats. Come ask questions\, and see how Bitcoin actually works here in Plett. \n\n\n\n🥨 Light snacks will be served. \n\n\n\nEveryone’s welcome.
URL:https://bitcoinplett.cx/event/bitcoin-meetup-at-surf-cafe-6/
LOCATION:Surf Cafe\, 10 Beacon Isle Centre\, c/o Pharos Ave &\, Beacon Isle Drive\, Plettenberg Bay\, 6600\, South Africa
CATEGORIES:Event
ATTACH;FMTTYPE=image/png:https://bitcoinplett.cx/wp-content/uploads/2026/02/Social-Media-Bitcoin-Education-Evening.png
ORGANIZER;CN="Bitcoin Plett":MAILTO:satoshi@bitcoinplett.cx
END:VEVENT
END:VCALENDAR